



BEGIN:VCALENDAR
VERSION:2.0
PRODID:-//Marcala Metal Fest - ECPv6.15.20//NONSGML v1.0//EN
CALSCALE:GREGORIAN
METHOD:PUBLISH
X-ORIGINAL-URL:https://marcalametalfest.com
X-WR-CALDESC:Eventos para Marcala Metal Fest
REFRESH-INTERVAL;VALUE=DURATION:PT1H
X-Robots-Tag:noindex
X-PUBLISHED-TTL:PT1H
BEGIN:VTIMEZONE
TZID:UTC
BEGIN:STANDARD
TZOFFSETFROM:+0000
TZOFFSETTO:+0000
TZNAME:UTC
DTSTART:20210101T000000
END:STANDARD
END:VTIMEZONE
BEGIN:VEVENT
DTSTART;TZID=UTC:20220924T140000
DTEND;TZID=UTC:20220925T020000
DTSTAMP:20260420T023620
CREATED:20250406T010905Z
LAST-MODIFIED:20260122T084420Z
UID:7200-1664028000-1664071200@marcalametalfest.com
SUMMARY:Marcala Metal Fest I Edición
DESCRIPTION:EventosMarcala Metal Fest IMarcala Metal Fest IIMarcala Metal Fest IIIMarcala Metal Fest IV\nLa primera edición del Marcala Metal Fest marcó un antes y un después en la escena metalera de la región. En un evento cargado de pura energía\, hermandad y pasión por el metal\, bandas de Honduras y El Salvador se unieron para ofrecer una noche inolvidable que sacudió los cimientos de Marcala. \nBandas invitadas: \nBandas Salvadoreñas   \nPresiona para ver mas..Haz click para ver mas..San SalvadorX I Edición Genero: Heavy metal ​La banda salvadoreña de metal En Memoria surgió en la década de 1980\, en el contexto de la guerra civil que marcó profundamente la escena cultural del país. Aunque la información sobre la banda es limitada\, se sabe que su vocalista fue Mauricio Quijano\, quien también fue excombatiente de la guerrilla. Esto sugiere que la banda pudo haber tenido vínculos con movimientos de resistencia y que su música reflejaba las tensiones sociales y políticas de la época. Durante los años 80\, el metal en El Salvador se desarrolló en condiciones adversas debido al conflicto armado. Pocas bandas lograron consolidarse en ese período. Entre las más destacadas están Renegado\, formada en 1988 y aún activa\, y Tabú\, considerada la primera banda salvadoreña en tocar thrash metal\, activa entre 1989 y 1992. Aunque no se dispone de detalles específicos sobre el estilo musical de En Memoria\, es probable que su sonido se alineara con el heavy metal clásico o el thrash metal\, géneros predominantes en la escena salvadoreña de la época. Su enfoque lírico posiblemente abordaba temas de memoria histórica\, resistencia y crítica social\, en consonancia con el contexto político y social del país.​ Presiona para ver mas..Haz click para ver mas..San SalvadorX I Edición Genero: Thrash Metal / Death Metal Renegado es una banda que nace en San Salvador en 1988\, previamente conocidos como Hell\, y que a lo largo de su carrera han editado en formato cinta Aniquilación en 1995\, y Pesadilla sin Final en 2000 para formato CD\, teniendo una mayor presencia en los directos\, y dejando en constancia que estarán durante muchos años  en el mapa sónico. ​La banda salvadoreña Renegado es una de las agrupaciones más emblemáticas y longevas de la escena metalera de El Salvador y Centroamérica. Formada en 1988 en San Salvador\, inicialmente bajo el nombre de Hell\, adoptó el nombre Renegado ese mismo año y ha mantenido su actividad hasta la actualidad.​ Género y estilo musical :Renegado se caracteriza por su estilo que fusiona el thrash metal y el death metal\, con letras que abordan temáticas como problemas personales\, crítica social\, política y la cultura del metal. Su sonido se distingue por riffs agresivos\, ritmos intensos y una actitud combativa que refleja las tensiones sociales y políticas de El Salvador durante las décadas de los 80 y 90 .​ Integrantes:La formación actual de Renegado incluye a:​ Marco Antonio "El Gallo" Sorto : Batería y voz Miguel Sorto: GuitarraWilfredo Canales: BajoEstos músicos también han participado en otros proyectos\, como la banda En Memoria .​ Discografía destacada:Aniquilación (demo\, 1995)​ Pesadilla sin Final (álbum\, 1999)​Además\, han lanzado grabaciones en vivo\, como su participación en el "Sound Session" de 2019\, donde interpretaron temas emblemáticos como "Esquizofrenia Apocalíptica" y "Máscara del Poder"​ Legado y trayectoria Renegado es reconocida como la única banda salvadoreña formada en los años 80 que sigue activa en la actualidad. Ha participado en todas las ediciones del El Salvador Metal Fest\, el festival de metal más importante del país\, consolidándose como una leyenda viva del metal centroamericano.​​ Su compromiso con la escena local y su influencia en generaciones posteriores han convertido a Renegado en un pilar fundamental del metal salvadoreño.​​ \nBandas Nacionales   \nPresiona para ver mas..Haz click para ver mas..TegucigalpaX I Edición Genero: Thrash Metal  La banda Arsenal de Odio publicó su álbum debut el 23 de septiembre de 2022 llamado Muerte En El Mosh el cual vendió todas sus copias teniendo una aceptación muy buena en el público Hondureño \,Arsenal de tiene una Mascota que los representa y es el Hada de las Birrias\, actualmente se encuentra componiendo los temas para su segundo álbum que verá la luz el próximo 2025. En este Mega Metal 2024 nos presentan 3 nuevas canciones del las cuales serán de su próxima producción. Integrantes:Oscar "Lulo" Osorto: Voz Emerson Guevara: Guitarra LíderSaady Rueda: BajoGerardo Irías: BateríaJosué Bustillo:  GuitarraColaboraciones con:SepulturaCrisix de EspañaArtillery de DinamarcaMalónÁngelus ApátridaNación disfunciónalLos CriminisAtake al sistemaThunder ProclaimerEstriperArañaRenegadoAureDeath InvocationDecimetion SistemEstrilOsariumInger of dearTorniqueteApes GoaGeneticNazardous MutilationSocial SSDezerebradosPresiona para ver mas..Haz click para ver mas..El ParaisoX I Edición Genero: Heavy Metal/Power Metal  La banda hondureña Anarkia\, originaria de El Paraíso\, El Paraíso\, es una agrupación activa desde 2002 que se destaca en la escena nacional por su estilo de heavy metal con influencias de power metal. Su música se caracteriza por riffs potentes\, solos melódicos y letrascon influencias de power metal. Su música se caracteriza por riffs potentes\, solos melódicos y letras que abordan temas sociales y de lucha. Género y estilo musical:Anarkia fusiona el heavy metal tradicional con elementos del power metal\, creando composiciones que combinan fuerza y melodía. Sus letras suelen reflejar problemáticas sociales y mensajes de resistencia\, como se aprecia en canciones como Prisionero.​ Integrantes:Carlos Ruiz​: Voz Birchard Vallecillo Lara: BateríaGregorio Pérez: Guitarra​Bianka Hernández: Guitarra​Luis Gamero: Bajo​Anteriormente\, la banda contó con miembros como Cristino Pérez (bajo) y Roman Jarquin (guitarra).​ Discografía destacada:Demos (2006–2010): Primeras grabaciones que establecieron su presencia en la escena local​Tiempos de Guerra (2022): Segundo álbum de estudio\, grabado en el "Gregorio Pérez Homestudio"\, que aborda temáticas de conflicto y resistencia.​Presiona para ver mas..Haz click para ver mas..TegucigalpaX I Edición Genero: Heavy metal/Hard rock Maideth es una banda de rock fundada en el año 2019 creada por Saul Montoya\, la idea del nombre surgio de la fusión de dos bandasfamosas influyetes en el género del rock como Iron Maiden y Megadeth Desde su debut\, la banda ha trabajado en composiciones propias y también ha realizado presentaciones en vivo dentro del circuito rockero y metalero de Honduras\, ganando reconocimiento por su energía en el escenario y su respeto a las raíces del metal tradicional. IntegrantesJohan Padilla: Bateria con una trayectoria musical en bandas como Holocausto\, Profecia\, Maintower\, Travelin Band\, DeloreanChristian Montoya: Guitarra de bandas como Delorean\, Parranderos\, guitarrista de Marvin Corea y Tierra SueltaSaul Montoya: Bajo con una trayectoria artistica con bandas como: Tierra De Carceles\, Mercurio Reina banda de New York\, Travelinband\, MAINTOWER\, Delorean\, Marvin Corea\, Tierra SueltaVidal Hernandez: Voz Mas conocido como Pechito\, cuenta con experiencia en bandas como: Tierra Suelta\, DeloreanLa banda a ha participado en eventos grandes\, festivales de rock en diferentes departamentos del país\, actualmente se esta trabajando en lo que sera el primer sencillo discografico titulado Cerca de la extinción Presiona para ver mas..Haz click para ver mas..TegucigalpaX I Edición Genero: Heavy Metal Errante es una banda de heavy metal originaria de Tegucigalpa\, Honduras\, fundada en el año 2017. Su propuesta musical combina la energía del metal clásico con influencias de speed metal y metal tradicional\, logrando un estilo agresivo\, veloz y cargado de técnica. Desde su nacimiento\, Errante ha buscado mantener viva la esencia del metal tradicional\, usando riffs pesados\, solos de guitarra virtuosos\, ritmos rápidos y una voz potente. Sus canciones están impregnadas de letras que exploran temas como la introspección personal\, las luchas sociales\, la justicia y la resistencia ante las adversidades. El nombre "Errante" simboliza esa búsqueda constante\, el caminar sin descanso de quien no se conforma y sigue luchando contra las injusticias y los desafíos de la vida. IntegrantesJorge Sosa​: Voz y guitarra rítmica Asbby Montoya: Guitarra líderLuis Gamero: BateríaTino Perez: BajoActividad y música:Aunque Errante es una banda relativamente joven\, ha ganado terreno rápidamente dentro de la escena del metal hondureño\, participando en importantes eventos locales y compartiendo su música en plataformas digitales. Han trabajado en sencillos y grabaciones de estudio independientes\, siempre cuidando mantener un sonido puro\, sin caer en tendencias comerciales\, fieles a su visión del heavy metal. Su energía en vivo\, su compromiso con el género y su constancia los han hecho destacar como una de las bandas emergentes más sólidas del metal en Honduras. Presiona para ver mas..Haz click para ver mas..MarcalaX I Edición Genero: Metal Alternativo/Metalcore KAHVE XVI es una banda hondureña de metal alternativo y metalcore\, nacida en Marcala\, La Paz en 2021. Con una propuesta fresca y potente\, mezclan la agresividad del metal moderno con pasajes melódicos\, riffs densos y una fuerte presencia de groove en su estructura musical. El nombre "KAHVE XVI" representa una identidad moderna y enigmática\, buscando trascender las barreras regionales y posicionarse en la escena nacional e internacional. La banda fusiona guturales intensos\, voces melódicas y breakdowns pesados\, creando canciones que son a la vez brutales y emocionales. KAHVE XVI mantiene un enfoque contemporáneo tanto en su sonido como en su imagen\, apostando por una propuesta de alta calidad. IntegrantesDavid Urquia: VozGomer Martinez: GuitarraChristian Montoya: GuitarraLuis Urquia: BateríaMelvin Argueta: BajoDesde su fundación\, KAHVE XVI ha trabajado de manera constante\, participando en escenarios importantes de la escena metalera hondureña y compartiendo cartel con otras bandas de peso. Además\, se han enfocado en construir una presencia sólida en redes sociales y plataformas digitales\, publicando música original y material audiovisual. Su crecimiento ha sido notable en poco tiempo\, posicionándolos como una de las bandas emergentes más prometedoras de Honduras. \nLa combinación de estos talentos\, junto con la entrega incondicional del público\, convirtió la noche en una celebración histórica para el metal en Marcala. El festival no solo fue música\, también fue resistencia\, comunidad y pasión. ¡El primer Marcala Metal Fest dejó una huella imborrable y promete crecer aún más en futuras ediciones. \nLa I Edición del Marcala Mestal Fest se caracterizó por su ambiente acogedor pero a la vez electrizante\, donde los fanáticos del metal pudieron disfrutar de un día lleno de música\, camaradería y pasión por el género. El evento también fue una plataforma para que las bandas locales e internacionales mostraran su talento\, creando una conexión entre diferentes escenas musicales y promoviendo la escena underground. \nEste evento no solo fue un espacio para disfrutar de buenas bandas\, sino también para compartir ideas y visibilizar la cultura del metal en Honduras y Centroamérica. El Marcala Mestal Fest dejó una huella imborrable en los asistentes\, quienes esperaban ansiosos las futuras ediciones del festival. \n¡Sin duda\, una excelente manera de celebrar el metal en el corazón de Honduras! \n \nGaleria
URL:https://marcalametalfest.com/event/marcala-metal-fest-i-edicion/
LOCATION:Palenque Marcalino\, Marcala\, La Paz\, Marcala\, La Paz\, Honduras\, Marcala\, La Paz\, 07008\, Honduras
CATEGORIES:Evento de Metal
ATTACH;FMTTYPE=image/jpeg:https://marcalametalfest.com/wp-content/uploads/2025/04/mmf-i-16.jpeg
END:VEVENT
END:VCALENDAR